BEGIN:VCALENDAR
VERSION:2.0
PRODID:-//Basin Life - ECPv6.15.8//NONSGML v1.0//EN
CALSCALE:GREGORIAN
METHOD:PUBLISH
X-ORIGINAL-URL:https://www.basinlife.com
X-WR-CALDESC:Events for Basin Life
REFRESH-INTERVAL;VALUE=DURATION:PT1H
X-Robots-Tag:noindex
X-PUBLISHED-TTL:PT1H
BEGIN:VTIMEZONE
TZID:America/Los_Angeles
BEGIN:DAYLIGHT
TZOFFSETFROM:-0800
TZOFFSETTO:-0700
TZNAME:PDT
DTSTART:20240310T100000
END:DAYLIGHT
BEGIN:STANDARD
TZOFFSETFROM:-0700
TZOFFSETTO:-0800
TZNAME:PST
DTSTART:20241103T090000
END:STANDARD
BEGIN:DAYLIGHT
TZOFFSETFROM:-0800
TZOFFSETTO:-0700
TZNAME:PDT
DTSTART:20250309T100000
END:DAYLIGHT
BEGIN:STANDARD
TZOFFSETFROM:-0700
TZOFFSETTO:-0800
TZNAME:PST
DTSTART:20251102T090000
END:STANDARD
BEGIN:DAYLIGHT
TZOFFSETFROM:-0800
TZOFFSETTO:-0700
TZNAME:PDT
DTSTART:20260308T100000
END:DAYLIGHT
BEGIN:STANDARD
TZOFFSETFROM:-0700
TZOFFSETTO:-0800
TZNAME:PST
DTSTART:20261101T090000
END:STANDARD
END:VTIMEZONE
BEGIN:VEVENT
DTSTART;TZID=America/Los_Angeles:20250214T053000
DTEND;TZID=America/Los_Angeles:20250214T143000
DTSTAMP:20260419T080832
CREATED:20250207T033420Z
LAST-MODIFIED:20250207T033420Z
UID:10001585-1739511000-1739543400@www.basinlife.com
SUMMARY:Annual Valentine's Day Bake Sale\, Feb. 14th from Klamath Hospice & Palliative Care
DESCRIPTION:Please Stop by for our\nKlamath Hospice & Palliative Care’s\nAnnual Valentine’s Day Bake Sale\n We will be holding it Friday\, February 14th at Sky Lakes Medical Center in their Main Lobby from 5:30 AM to 2 PM.  \nYou can find delectable delights from Valentine’s cookies\, cakes\, pies\, brownies\, flowers\, candies\, and gift items. There will also be a raffle. There’s something for all ages to enjoy!\nAll proceeds will benefit Klamath Hospice and Palliative Care’s terminally ill patients and their families.\nKlamath Hospice and Palliative Care\n2751 Washburn Way\nKlamath Falls\, Oregon 97603\nPhone:  541-882-2902
URL:https://www.basinlife.com/calendar/annual-valentines-day-bake-sale-feb-14th-from-klamath-hospice-palliative-care/
LOCATION:Sky Lakes Medical Center\, 2865 Daggett Ave\, Klamath Falls\, OR\, 97601\, United States
CATEGORIES:Community Event,Fundraiser,Health & Wellness
ATTACH;FMTTYPE=image/jpeg:https://www.basinlife.com/wp-content/uploads/2025/02/HOSPICE-2025-Bake-Sale-scaled.jpg
END:VEVENT
END:VCALENDAR