BEGIN:VCALENDAR
VERSION:2.0
PRODID:-//Basin Life - ECPv6.15.8//NONSGML v1.0//EN
CALSCALE:GREGORIAN
METHOD:PUBLISH
X-WR-CALNAME:Basin Life
X-ORIGINAL-URL:https://www.basinlife.com
X-WR-CALDESC:Events for Basin Life
REFRESH-INTERVAL;VALUE=DURATION:PT1H
X-Robots-Tag:noindex
X-PUBLISHED-TTL:PT1H
BEGIN:VTIMEZONE
TZID:America/Los_Angeles
BEGIN:DAYLIGHT
TZOFFSETFROM:-0800
TZOFFSETTO:-0700
TZNAME:PDT
DTSTART:20240310T100000
END:DAYLIGHT
BEGIN:STANDARD
TZOFFSETFROM:-0700
TZOFFSETTO:-0800
TZNAME:PST
DTSTART:20241103T090000
END:STANDARD
BEGIN:DAYLIGHT
TZOFFSETFROM:-0800
TZOFFSETTO:-0700
TZNAME:PDT
DTSTART:20250309T100000
END:DAYLIGHT
BEGIN:STANDARD
TZOFFSETFROM:-0700
TZOFFSETTO:-0800
TZNAME:PST
DTSTART:20251102T090000
END:STANDARD
BEGIN:DAYLIGHT
TZOFFSETFROM:-0800
TZOFFSETTO:-0700
TZNAME:PDT
DTSTART:20260308T100000
END:DAYLIGHT
BEGIN:STANDARD
TZOFFSETFROM:-0700
TZOFFSETTO:-0800
TZNAME:PST
DTSTART:20261101T090000
END:STANDARD
BEGIN:DAYLIGHT
TZOFFSETFROM:-0800
TZOFFSETTO:-0700
TZNAME:PDT
DTSTART:20270314T100000
END:DAYLIGHT
BEGIN:STANDARD
TZOFFSETFROM:-0700
TZOFFSETTO:-0800
TZNAME:PST
DTSTART:20271107T090000
END:STANDARD
END:VTIMEZONE
BEGIN:VEVENT
DTSTART;TZID=America/Los_Angeles:20260306T160000
DTEND;TZID=America/Los_Angeles:20260308T150000
DTSTAMP:20260423T030615
CREATED:20250804T195436Z
LAST-MODIFIED:20250804T195436Z
UID:10001993-1772812800-1772982000@www.basinlife.com
SUMMARY:Cascade Cup Pond Hockey Tournament
DESCRIPTION:The Cascade Cup is Southern Oregon’s newest pond hockey tournament: a three-day celebration of ice\, community\, and competition at Bill Collier Ice Arena in Klamath Falls! \n Held March 6-8\, 2026\, the tournament is designed for all adults and skill levels to experience the magic of winter hockey.  \nJoin us for food\, drink and treats from Klamath Falls’ most iconic food trucks and establishments while you enjoy 4 v 4 ice hockey on our treasured local rink.
URL:https://www.basinlife.com/calendar/cascade-cup-pond-hockey-tournament/
CATEGORIES:Bill Collier Community Ice Arena,Party,Volunteering
ATTACH;FMTTYPE=image/png:https://www.basinlife.com/wp-content/uploads/2025/07/Screenshot-2025-07-31-112313.png
END:VEVENT
BEGIN:VEVENT
DTSTART;TZID=America/Los_Angeles:20250214T053000
DTEND;TZID=America/Los_Angeles:20250214T143000
DTSTAMP:20260423T030615
CREATED:20250207T033420Z
LAST-MODIFIED:20250207T033420Z
UID:10001585-1739511000-1739543400@www.basinlife.com
SUMMARY:Annual Valentine's Day Bake Sale\, Feb. 14th from Klamath Hospice & Palliative Care
DESCRIPTION:Please Stop by for our\nKlamath Hospice & Palliative Care’s\nAnnual Valentine’s Day Bake Sale\n We will be holding it Friday\, February 14th at Sky Lakes Medical Center in their Main Lobby from 5:30 AM to 2 PM.  \nYou can find delectable delights from Valentine’s cookies\, cakes\, pies\, brownies\, flowers\, candies\, and gift items. There will also be a raffle. There’s something for all ages to enjoy!\nAll proceeds will benefit Klamath Hospice and Palliative Care’s terminally ill patients and their families.\nKlamath Hospice and Palliative Care\n2751 Washburn Way\nKlamath Falls\, Oregon 97603\nPhone:  541-882-2902
URL:https://www.basinlife.com/calendar/annual-valentines-day-bake-sale-feb-14th-from-klamath-hospice-palliative-care/
LOCATION:Sky Lakes Medical Center\, 2865 Daggett Ave\, Klamath Falls\, OR\, 97601\, United States
CATEGORIES:Community Event,Fundraiser,Health & Wellness
ATTACH;FMTTYPE=image/jpeg:https://www.basinlife.com/wp-content/uploads/2025/02/HOSPICE-2025-Bake-Sale-scaled.jpg
END:VEVENT
BEGIN:VEVENT
DTSTART;TZID=America/Los_Angeles:20250104T080000
DTEND;TZID=America/Los_Angeles:20250104T170000
DTSTAMP:20260423T030615
CREATED:20241219T054217Z
LAST-MODIFIED:20241219T055053Z
UID:10000963-1735977600-1736010000@www.basinlife.com
SUMMARY:Boy Scout Troop 8 Christmas Tree Pickup Fundraiser
DESCRIPTION:For a $10 minimum donation\, Boy Scout Troop 8 in Klamath Falls will pick up your undecorated tree and have it chipped or used as feed for goats.\nWe will be working Saturday\, January 4\, 2025 from 8:00AM to 5:00PM.\nFunds raised will help cover costs for summer camp and other scout activities.  \nCall us for pickup at 541-850-9217 or  818-415-4752.\nThank you so much!  Happy Holidays!
URL:https://www.basinlife.com/calendar/boy-scout-troop-8-christmas-tree-pickup-fundraiser/
CATEGORIES:Fundraiser
ATTACH;FMTTYPE=image/jpeg:https://www.basinlife.com/wp-content/uploads/2024/12/Christmas-Tree-Pickup-Flyer.jpg
END:VEVENT
END:VCALENDAR